BEGIN:VCALENDAR
VERSION:2.0
PRODID:-//87.118.120.91//NONSGML kigkonsult.se iCalcreator 2.20//
CALSCALE:GREGORIAN
METHOD:PUBLISH
X-WR-TIMEZONE:UTC
BEGIN:VEVENT
UID:event541@Bürgerzentrum Thümmlitzwalde
DTSTAMP:20260422T053714Z
CATEGORIES:geschlossene Veranstaltung
DESCRIPTION:Familienfeier\nKategorie: geschlossene Veranstaltung\nICS-Link:
  https://buergerzentrum-thuemmlitzwalde.de/index.php?option=com_jem&view=e
 vent&id=541:familienfeier\n
DTSTART;VALUE=DATE:20260509
DTEND;VALUE=DATE:20260510
LOCATION:Kegelbahn\,Am Festplatz 4-6\,04668 Grimma OT Dürrweitzschen
SUMMARY:Familienfeier
URL:https://buergerzentrum-thuemmlitzwalde.de/index.php?option=com_jem&view
 =event&id=541:familienfeier
END:VEVENT
END:VCALENDAR
